BEGIN:VCALENDAR
VERSION:2.0
PRODID:-//wp-events-plugin.com//7.2.3.1//EN
TZID:Europe/Vienna
X-WR-TIMEZONE:Europe/Vienna
BEGIN:VEVENT
UID:184@sc-altmuenster.at
DTSTART;TZID=Europe/Vienna:20251025T070000
DTEND;TZID=Europe/Vienna:20251026T180000
DTSTAMP:20251007T140552Z
URL:https://www.sc-altmuenster.at/termine/trainingswochen-in-kaprun/
SUMMARY:Trainingswochen in Kaprun
DESCRIPTION:Trainingswochen in Kaprun
CATEGORIES:Sonstige Veranstaltungen
END:VEVENT
BEGIN:VTIMEZONE
TZID:Europe/Vienna
X-LIC-LOCATION:Europe/Vienna
BEGIN:DAYLIGHT
DTSTART:20250330T030000
TZOFFSETFROM:+0100
TZOFFSETTO:+0200
TZNAME:CEST
END:DAYLIGHT
BEGIN:STANDARD
DTSTART:20251026T020000
TZOFFSETFROM:+0200
TZOFFSETTO:+0100
TZNAME:CET
END:STANDARD
END:VTIMEZONE
END:VCALENDAR