BEGIN:VCALENDAR
VERSION:2.0
PRODID:-//wp-events-plugin.com//7.2.3.1//EN
TZID:Europe/Vienna
X-WR-TIMEZONE:Europe/Vienna
BEGIN:VEVENT
UID:170@sc-altmuenster.at
DTSTART;TZID=Europe/Vienna:20250125T083000
DTEND;TZID=Europe/Vienna:20250125T160000
DTSTAMP:20250122T195711Z
URL:https://www.sc-altmuenster.at/termine/stangentraining/
SUMMARY:ABGESAGT: Stangentraining
DESCRIPTION:Leider ist keine Piste frei und ist daher abgesagt....\n\nTreff
 en Samstag 25. Jänner um 08:30\nWo: Feuerkogel oder Gosau\n\n
CATEGORIES:Rennen
END:VEVENT
BEGIN:VTIMEZONE
TZID:Europe/Vienna
X-LIC-LOCATION:Europe/Vienna
BEGIN:STANDARD
DTSTART:20241027T020000
TZOFFSETFROM:+0200
TZOFFSETTO:+0100
TZNAME:CET
END:STANDARD
END:VTIMEZONE
END:VCALENDAR