BEGIN:VCALENDAR
VERSION:2.0
PRODID:-//wp-events-plugin.com//7.2.3.1//EN
TZID:Europe/Vienna
X-WR-TIMEZONE:Europe/Vienna
BEGIN:VEVENT
UID:192@sc-altmuenster.at
DTSTART;TZID=Europe/Vienna:20260117T000000
DTEND;TZID=Europe/Vienna:20260117T000000
DTSTAMP:20251104T135956Z
URL:https://www.sc-altmuenster.at/termine/marktmeisterschaften/
SUMMARY:Marktmeisterschaften
DESCRIPTION:Findet am Hochlecken statt - die Details folgen noch
CATEGORIES:Rennen
END:VEVENT
BEGIN:VTIMEZONE
TZID:Europe/Vienna
X-LIC-LOCATION:Europe/Vienna
BEGIN:STANDARD
DTSTART:20251026T020000
TZOFFSETFROM:+0200
TZOFFSETTO:+0100
TZNAME:CET
END:STANDARD
END:VTIMEZONE
END:VCALENDAR